BEGIN:VCALENDAR
VERSION:2.0
PRODID:-//Association des Bergères et Bergers en Alpages et Systèmes Pastoraux - ECPv6.15.20//NONSGML v1.0//EN
CALSCALE:GREGORIAN
METHOD:PUBLISH
X-ORIGINAL-URL:https://abbasp.fr
X-WR-CALDESC:Évènements pour Association des Bergères et Bergers en Alpages et Systèmes Pastoraux
REFRESH-INTERVAL;VALUE=DURATION:PT1H
X-Robots-Tag:noindex
X-PUBLISHED-TTL:PT1H
BEGIN:VTIMEZONE
TZID:Europe/Paris
BEGIN:DAYLIGHT
TZOFFSETFROM:+0100
TZOFFSETTO:+0200
TZNAME:CEST
DTSTART:20250330T010000
END:DAYLIGHT
BEGIN:STANDARD
TZOFFSETFROM:+0200
TZOFFSETTO:+0100
TZNAME:CET
DTSTART:20251026T010000
END:STANDARD
BEGIN:DAYLIGHT
TZOFFSETFROM:+0100
TZOFFSETTO:+0200
TZNAME:CEST
DTSTART:20260329T010000
END:DAYLIGHT
BEGIN:STANDARD
TZOFFSETFROM:+0200
TZOFFSETTO:+0100
TZNAME:CET
DTSTART:20261025T010000
END:STANDARD
BEGIN:DAYLIGHT
TZOFFSETFROM:+0100
TZOFFSETTO:+0200
TZNAME:CEST
DTSTART:20270328T010000
END:DAYLIGHT
BEGIN:STANDARD
TZOFFSETFROM:+0200
TZOFFSETTO:+0100
TZNAME:CET
DTSTART:20271031T010000
END:STANDARD
END:VTIMEZONE
BEGIN:VEVENT
DTSTART;TZID=Europe/Paris:20260505T080000
DTEND;TZID=Europe/Paris:20260505T170000
DTSTAMP:20260421T165838
CREATED:20260317T130438Z
LAST-MODIFIED:20260317T130440Z
UID:4769-1777968000-1778000400@abbasp.fr
SUMMARY:Shiatsu Chien 2026
DESCRIPTION:Stage d’initiation massage/shiatsu pour chiens en alpage – Mardi 5 Mai \n\n\n\n 🐕 \n\n\n\nL’ABBASP organise un stage d’initiation massage chien / shiatsu animé par Nicolas Farina. \n\n\n\n📅 Dates : \n\n\n\n    mardi 5 mai \n\n\n\n📍 Lieu : \n\n\n\nMaison du Berger\, les Borels 05260\, Champoléon \n\n\n\n⏰ Horaires :De 9h à 17h30 \n\n\n\nProgramme: \n\n\n\nMatinée 9H – 12h (3H) \n\n\n\n– Introduction de la journée + présentation des participants \n\n\n\n– Présentation du shiatsu \n\n\n\n– Travail préalable au massage: exercices de respiration et de méditation  \n\n\n\n– Pratique en binôme entre participants sur un méridien \n\n\n\n– Connaissances basiques de l’anatomie et du langage du chien \n\n\n\n– Réaliser un massage de détente sur chien: démonstration  \n\n\n\nRepas sorti du sac/auberge espagnole \n\n\n\nAprès-midi 14H 17H30 \n\n\n\n– Exercices de respiration\, ancrage \n\n\n\n– Pratique sur le chien d’un autre puis sur son chien (2 massages par participant)  \n\n\n\n– Bilan de la journée  \n\n\n\n🐶 info : \n\n\n\n2 chiens par inscrit (si vous n’avez qu’un chien\, ça va aussi). \n\n\n\n6 participants pour le stage. \n\n\n\n🍽 Repas du midi : \n\n\n\nRepas tiré du sac \n\n\n\nHébergement sur place possible le soir du 4 et du 5 en fonction des demandes. \n\n\n\n💶 Tarifs : \n\n\n\n20 € : frais de participation  \n\n\n\n20 € : adhésion à l’association ABBASP \n\n\n\n📩 Renseignements & inscriptions : \n\n\n\nMarius Nicolas \n\n\n\n📞 07 52 05 09 16
URL:https://abbasp.fr/event/shiatsu-chien-2026/
CATEGORIES:Affichage public
END:VEVENT
BEGIN:VEVENT
DTSTART;TZID=Europe/Paris:20260508T080000
DTEND;TZID=Europe/Paris:20260510T170000
DTSTAMP:20260421T165838
CREATED:20260410T131549Z
LAST-MODIFIED:20260417T085542Z
UID:4773-1778227200-1778432400@abbasp.fr
SUMMARY:Fete de printemps 2026
DESCRIPTION:La fiesta des berger.e.s revient du 8 au 10 mai\, pour la 4e année consécutive\, à Théous sur la commune d’Authon dans le 04.  \n\n\n\nLa fête du printemps\, c’est l’occasion de se retrouver entre berger.e.s avant d’entamer la saison. Une bonne grosse dose de sociabilité et de fête\, mais aussi de solidarité et de partages en tous genres\, avant d’être réduit.e.s au tintement des sonnailles et aux bêlements si chers à nos coeurs. Rares sont les espaces où nous pouvons nous retrouver partager nos apprentissages & nos savoirs-faire\, échanger sur la diversité de notre métier mais aussi sa complexité et ses difficultés. La fiesta\, en plus des rencontres\, c’est aussi l’occasion de parler des doutes et des vulnérabilité que nous partageons toustes\, de sentir que là-bas\, sur la montagne d’en face\, il y a aussi des berger.e.s qui vivent les mêmes galères que nous. On a toustes nos petits tips et nos anecdotes à partager ! Bienvenue aux berger.e.s débutant.e.s ou pas\, habitué.e.s ou pas\, en questionnement\, lassé.e.s\, passionné.e.s… Bienvenue à notre pluralité !PARKING / DODO : Il y a un champ plus ou moins plat pour poser tentes\, voitures et camions. CHIENS : Les chiens sont autorisés sur le parking et il y a des chemins de balade tout autour ; mais ils doivent rester hors du site de la fiesta. GESTION COLLECTIVE : Gère tes chiens\, ses cacas\, tes poubelles et tes mégots pour que la fête reste légère pour tout le monde. La fiesta\, c’est une petite fourmilière qui a débuté il y a 4 ans avec une poignée d’adhérent.e.s. Aujourd’hui\, on est une 15aine à organiser tout ça mais on compte sur la conscience et la gestion collective\, notamment en matière de propreté / respect du lieu\, qui est une pépite de trouvaille ! L’asso\, c’est aussi des valeurs fondamentales (écologiques\, humaines\, inclusives) auxquelles on tient et tu t’y engages en participant à la fiesta. N’hésite pas à jeter un oeil à notre charte d’accueil qui raconte notre état d’esprit.ATELIERS : Tout le week-end\, des ateliers sont proposés bénévolement. Va voir le planning sur le site de l’abbasp pour voir tout ce qui est proposé. Attention : tu ne pourras pas tout faire et certains ateliers sont à jauge limité donc il est fortement conseillé de s’inscrire (par sms au 07 77 30 24 81). Fabrication de pain en alpage\, gravure sur opinel\, théorie & pratique d’utilisation de cartes IGN\, fabrication de houlette en bois\, découpe d’agneaux\, dressage de chien\, battages équidés\, atelier laine tricot / crochet / reprisage de chaussettes\, fabrication de boucles d’oreilles en broderie\, impression végétale sauvage au marteau\, yoga & postures d’étirements\, automassages\, techniques de voix\, écriture\, discussion autour de l’addiction & la santé mentale\, répartie pastorale (comment réagir aux phrases chiantes qu’on entend tout le temps ?)\, gonflage parapente\, initiation au handpoke (tattoo).TENTE DES BERGERES : C’est un lieu cocon\, en mixité choisie (sans mec cis-hétéro) avec des ressources féministes et militantes mais pas que. Viens le visiter et te mettre à l’aise.  \n\n\n\n \n\n\n\nTENTE DES BERGERES : C’est un lieu cocon\, en mixité choisie (sans mec cis-hétéro) avec des ressources féministes et militantes mais pas que. Viens le visiter et te mettre à l’aise.  \n\n\n\nTABLES RONDES :Vendredi : 10h-12h : Alpages sentinelles avec Olivier Bonnet14h-17h : Retour sur un voyage en Palestine avec MaëlSamedi : 9h-11h30 : Orage et traumatologie avec Rémi Foussat14h-15h30 : Sociologie des berger.e.s avec Gaspard Sénéchal \n\n\n\nSOIREES / SPECTACLES Vendredi 8 mai18h-19h : Spectacle Canti Per i Campi (voix)21h-23h : Spectacle de la Résidence Pastorale (théâtre).Samedi 9 mai : 21h30-23h : Concert de Bataax (electro-techno jazz enflammé)23h-4h : playlists de choix des berger.e.s  \n\n\n\nLE FREESHOP : Comme les années précédentes\, il y aura un espace abrité freeshop où tu peux venir déposer tes livres\, fringues et chaussures qui ne te servent plus pour les laisser en libre service pendant la fiesta. \n\n\n\nRESTAURATION : Cette année\, ce sont nos adhérent.e.s Pascal et Reth qui gèrent le pôle cuisine\, avec des bénévoles en plus. La réservation de chaque repas est obligatoire et le paiement se fera sur place en espèces uniquement. Prix pour les repas : 8€ / samedi soir c’est agneaux cuisson lente 12€ ou option végé à 8€. Service assuré par les bénévoles et vaisselle en autogestion. \n\n\n\nPour proposer ta participation en tant que bénévole\, contacte Eléa au 07 57 06 74 46 ou Juliette au 06 42 02 02 90 (un accueil bénévoles est prévu le jeudi 7 mai à 17h). \n\n\n\nY A QUOI DANS MA BESACE ?? N’oublie pas de rapporter tes fringues\, livres et autres à donner pour le freeshop ! Un vêtement de coeur à floquer au stand sérigraphieTes chaussettes trouées pour l’atelier de reprisage.Pour encore plus de fun\, n’hésites pas à venir avec tes déguisements les plus insolites pour te faire le.a plus beau / belle / incongru.e \n\n\n\nEt surtout\, prends du cash ! \n\n\n\nAttention\, pas de réseau sur place !! \n\n\n\n \n\n\n\n \n\n \n\n\n\n\n\n \n\n\n\n\n\n\nTARIFS\, INFOS et RESA \n\n\n\n\n\n\nLa réservation est obligatoire pour les repas et vivement conseillée pour la participation à la fiesta\, ainsi que pour les ateliers à jauge limitée \npar HelloAsso :  \nhttps://www.helloasso.com/associations/association-des-bergeres-et-bergers-en-alpages-et-systemes-pastoraux/evenements/fete-de-printemps-2026 \npar SMS :  \nMerci d’indiquer ton nom\, prénom\, les repas souhaités ainsi que les ateliers voulus. Ecrire à Morgane au 07 77 30 24 81.  \nRésas ouvertes jusqu’au 4 mai.  \nPour proposer ta participation en tant que bénévole\, contacte Eléa au 07 57 06 74 46 ou Juliette au 06 42 02 02 90 (un accueil bénévoles est prévu le jeudi 7 mai à 17h). \n\n\n\n\n\n 
URL:https://abbasp.fr/event/fiesta2026/
CATEGORIES:Affichage public
END:VEVENT
BEGIN:VEVENT
DTSTART;TZID=Europe/Paris:20260519T080000
DTEND;TZID=Europe/Paris:20260520T170000
DTSTAMP:20260421T165838
CREATED:20260316T195322Z
LAST-MODIFIED:20260317T130209Z
UID:4764-1779177600-1779296400@abbasp.fr
SUMMARY:Stage sécurité en montagne 2026
DESCRIPTION:Chaque année\, on dénombre plusieurs accidents\, parfois mortels\, chez les berger.e.s dans la pratique de leurs métiers en montagne. Apres déjà 4 éditions\, nous réitérons pour une 5e année ce format de stage. \n\n\n\nDeux jours sur le terrain avec un guide de haute montagne pour échanger et discuter autour de notions de sécurité. Mieux lire le terrain et anticiper\, apprendre les bons gestes pour éviter de se blesser\,  développer des méthodes pour éviter l’accident\, et que faire si malheureusement il arrive. Nous découvrirons tout cela avec Emilie Fourot\, guide en Savoie et le concours de la MSA. \n\n\n\n\nlecture de Terrain\n\n\n\nexercice technique pour affermir son pied\n\n\n\nechange autour des problématiques de sécurité en montagne\n\n\n\ndécouverte et apprentissage de technique issu de l’alpinisme pour limiter et anticiper les prises de risques\n\n\n\nque faire en cas d’accident\n\n\n\n\n\n\n\n\nStage de deux jours gratuit\, incluant repas du midi et du soir ainsi que la nuitée en refuge.Les chiens ne pourront malheureusement pas être acceptées. \n\n\n\nplus d’info et reservation : abbasp.asso@gmail.com / 06 77 88 82 66 \n\n\n\nDate : 19 – 20 mai 2026 \n\n\n\n\nLieu : Champsaur\n\n\n\nCoût : Gratuit\, prise en charge des repas ainsi que d’une nuitée en refuge\n\n\n\nNombre de participants : limité à 8\n\n\n\nChiens non admis\n\n\n\n\norganisé avec le concours de et financé par la MSA Alpes Vaucluse.
URL:https://abbasp.fr/event/stage-securite-en-montagne-2026/
CATEGORIES:Affichage public
END:VEVENT
END:VCALENDAR